BEGIN:VCALENDAR
VERSION:2.0
PRODID:-//Verein GfuG - ECPv6.15.18//NONSGML v1.0//EN
CALSCALE:GREGORIAN
METHOD:PUBLISH
X-WR-CALNAME:Verein GfuG
X-ORIGINAL-URL:https://www.gfug.ch
X-WR-CALDESC:Veranstaltungen im Verein GfuG
REFRESH-INTERVAL;VALUE=DURATION:PT1H
X-Robots-Tag:noindex
X-PUBLISHED-TTL:PT1H
BEGIN:VTIMEZONE
TZID:Europe/Zurich
BEGIN:DAYLIGHT
TZOFFSETFROM:+0100
TZOFFSETTO:+0200
TZNAME:CEST
DTSTART:20240331T010000
END:DAYLIGHT
BEGIN:STANDARD
TZOFFSETFROM:+0200
TZOFFSETTO:+0100
TZNAME:CET
DTSTART:20241027T010000
END:STANDARD
BEGIN:DAYLIGHT
TZOFFSETFROM:+0100
TZOFFSETTO:+0200
TZNAME:CEST
DTSTART:20250330T010000
END:DAYLIGHT
BEGIN:STANDARD
TZOFFSETFROM:+0200
TZOFFSETTO:+0100
TZNAME:CET
DTSTART:20251026T010000
END:STANDARD
BEGIN:DAYLIGHT
TZOFFSETFROM:+0100
TZOFFSETTO:+0200
TZNAME:CEST
DTSTART:20260329T010000
END:DAYLIGHT
BEGIN:STANDARD
TZOFFSETFROM:+0200
TZOFFSETTO:+0100
TZNAME:CET
DTSTART:20261025T010000
END:STANDARD
END:VTIMEZONE
BEGIN:VEVENT
DTSTART;TZID=Europe/Zurich:20250530T170000
DTEND;TZID=Europe/Zurich:20250530T210000
DTSTAMP:20260424T153710
CREATED:20250516T085501Z
LAST-MODIFIED:20250516T085501Z
UID:23345-1748624400-1748638800@www.gfug.ch
SUMMARY:Dorf Fyrabig in Schwyz mit «Coverstreet»
DESCRIPTION:Mit den beliebten Dorf Fyrabig Konzerten startet im Mai 2025 bereits in die sechste Saison. Bis Anfang September finden die Open-Air-Konzerte jeden Freitagabend abwechslungsweise in Schwyz\, Brunnen und Steinen statt. \nDer Anlass findet ab 17 Uhr auf dem Hauptplatz Schwyz statt und wird umrahmt von verschiedenen Essens- und Getränkeständen\, die für das leibliche Wohl vor Ort sorgen. Die Band spielt von 18:15 – 20:15 Uhr. \nMusik verbindet Jung und Alt \n«Wir freuen uns sehr\, dass sich die Dorf Fyrabig-Konzerte grosser Beliebtheit erfreuen. Diesen Sommer dürfen wir als Erlebnisregion Mythen total 16 Konzerte zusammen mit dem Verein GfuG und dem Kulturverein Steinen organisieren. Ein grosses Dankeschön an alle Beteiligten!» sagt Kurt Betschart\, Geschäftsführer der Erlebnisregion Mythen. \nAn lauen Sommerabenden bringt die Konzertreihe jeden Freitag Stimmung und Vielfalt nach Brunnen\, Schwyz und Steinen – bei freiem Eintritt und für jeden Geschmack etwas dabei. Über Zu-/Absage wird jeweils am Freitagmorgen im Boten der Urschweiz\, auf Social Media @erlebnisregionmythen oder auf der Webseite: www.erlebnisregion-mythen.ch/fyrabig informiert. \nEin herzliches Dankeschön an alle Sponsoren \nDie musikalischen Darbietungen werden unterstützt durch die Gemeinden Ingenbohl und Schwyz\, den Bezirk Schwyz sowie den Hauptsponsoren Swiss Casino Pfäffikon\, KUB-Architekten\, Sparkasse Schwyz\, Helvetia Versicherungen Hauptagentur Schwyz und dem jeweiligen Abendsponsor. Ohne diese Unterstützung wäre es nicht möglich\, die 16 Konzerte in der Erlebnisregion Mythen durchzuführen. \n  \nDorf Fyrabig Flyer \n 
URL:https://www.gfug.ch/event/dorf-fyrabig-in-schwyz-mit-coverstreet/
LOCATION:Hauptplatz Schwyz
ATTACH;FMTTYPE=image/jpeg:https://www.gfug.ch/wp-content/uploads/2021/01/dorf-fyrabig-schwyz.jpg
ORGANIZER;CN="Erlebnisregion Mythen":MAILTO:info@brunnen-schwyz.ch
END:VEVENT
END:VCALENDAR